BEGIN:VCALENDAR
VERSION:2.0
PRODID:-//www.thearcofsomerset.org//NONSGML kigkonsult.se iCalcreator 2.30.
 10//
CALSCALE:GREGORIAN
METHOD:PUBLISH
UID:42926df3-b2b6-46bb-80ed-3cb147c13792
X-WR-CALDESC:
X-WR-RELCALID:b8c590e805240a3327157efd3d5be42e
X-WR-TIMEZONE:America/New_York
BEGIN:VTIMEZONE
TZID:America/New_York
BEGIN:STANDARD
TZNAME:EST
DTSTART:20211107T020000
TZOFFSETFROM:-0400
TZOFFSETTO:-0500
RDATE:20221106T020000
RDATE:20231105T020000
END:STANDARD
BEGIN:DAYLIGHT
TZNAME:EDT
DTSTART:20220313T020000
TZOFFSETFROM:-0500
TZOFFSETTO:-0400
RDATE:20230312T020000
RDATE:20240310T020000
END:DAYLIGHT
END:VTIMEZONE
BEGIN:VEVENT
UID:341817f2-f68d-4f13-9f45-ed2fd6532134
DTSTAMP:20260422T122523Z
DESCRIPTION:
DTSTART;TZID=America/New_York:20220916T100000
DTEND;TZID=America/New_York:20220916T140000
LOCATION:
SUMMARY:Manville Library
END:VEVENT
END:VCALENDAR
