BEGIN:VCALENDAR
VERSION:2.0
PRODID:-//www.thearcofsomerset.org//NONSGML kigkonsult.se iCalcreator 2.30.
 10//
CALSCALE:GREGORIAN
METHOD:PUBLISH
UID:31ee9ebf-0020-4e06-b2a0-7cc767d72d8a
X-WR-CALDESC:
X-WR-RELCALID:a067bf4fc5067d4eb13df8558261afda
X-WR-TIMEZONE:America/New_York
BEGIN:VTIMEZONE
TZID:America/New_York
BEGIN:STANDARD
TZNAME:EST
DTSTART:20211107T020000
TZOFFSETFROM:-0400
TZOFFSETTO:-0500
RDATE:20221106T020000
RDATE:20231105T020000
END:STANDARD
BEGIN:DAYLIGHT
TZNAME:EDT
DTSTART:20220313T020000
TZOFFSETFROM:-0500
TZOFFSETTO:-0400
RDATE:20230312T020000
RDATE:20240310T020000
END:DAYLIGHT
END:VTIMEZONE
BEGIN:VEVENT
UID:e88b2f26-52c5-4cab-98c8-6a34f654d3ca
DTSTAMP:20260422T122634Z
DESCRIPTION:
DTSTART;TZID=America/New_York:20220923T100000
DTEND;TZID=America/New_York:20220923T140000
LOCATION:
SUMMARY:Manville Library
END:VEVENT
END:VCALENDAR
