BEGIN:VCALENDAR
VERSION:2.0
PRODID:-//www.thearcofsomerset.org//NONSGML kigkonsult.se iCalcreator 2.30.
 10//
CALSCALE:GREGORIAN
METHOD:PUBLISH
UID:b3458ab1-b351-43a8-8373-9a517fff1d58
X-WR-CALDESC:
X-WR-RELCALID:1ece0977e508c11370afb37bf6adc410
X-WR-TIMEZONE:America/New_York
BEGIN:VTIMEZONE
TZID:America/New_York
BEGIN:STANDARD
TZNAME:EST
DTSTART:20211107T020000
TZOFFSETFROM:-0400
TZOFFSETTO:-0500
RDATE:20221106T020000
RDATE:20231105T020000
END:STANDARD
BEGIN:DAYLIGHT
TZNAME:EDT
DTSTART:20220313T020000
TZOFFSETFROM:-0500
TZOFFSETTO:-0400
RDATE:20230312T020000
RDATE:20240310T020000
END:DAYLIGHT
END:VTIMEZONE
BEGIN:VEVENT
UID:27c24a98-ce7a-4896-82cc-3b6454f4f7c2
DTSTAMP:20260422T122448Z
DESCRIPTION:
DTSTART;TZID=America/New_York:20220930T100000
DTEND;TZID=America/New_York:20220930T140000
LOCATION:
SUMMARY:Manville Library
END:VEVENT
END:VCALENDAR
