BEGIN:VCALENDAR
VERSION:2.0
PRODID:-//www.thearcofsomerset.org//NONSGML kigkonsult.se iCalcreator 2.30.
 10//
CALSCALE:GREGORIAN
METHOD:PUBLISH
UID:dcfbacd9-f100-49a7-acf6-84428df44de1
X-WR-CALDESC:
X-WR-RELCALID:818df8579b47adf3257dac2f9d32cbbc
X-WR-TIMEZONE:America/New_York
BEGIN:VTIMEZONE
TZID:America/New_York
BEGIN:STANDARD
TZNAME:EST
DTSTART:20221106T020000
TZOFFSETFROM:-0400
TZOFFSETTO:-0500
RDATE:20231105T020000
END:STANDARD
BEGIN:DAYLIGHT
TZNAME:EDT
DTSTART:20220313T020000
TZOFFSETFROM:-0500
TZOFFSETTO:-0400
RDATE:20230312T020000
RDATE:20240310T020000
END:DAYLIGHT
END:VTIMEZONE
BEGIN:VEVENT
UID:a0579fe6-bba5-45d6-a9bd-0a9270f74b96
DTSTAMP:20260422T092052Z
DESCRIPTION:
DTSTART;TZID=America/New_York:20221124T000000
DTEND;TZID=America/New_York:20221124T235900
LOCATION:
SUMMARY:Thanksgiving
END:VEVENT
END:VCALENDAR
