BEGIN:VCALENDAR
VERSION:2.0
PRODID:-//www.thearcofsomerset.org//NONSGML kigkonsult.se iCalcreator 2.30.
 10//
CALSCALE:GREGORIAN
METHOD:PUBLISH
UID:4a64c7ff-6ee7-4786-85f4-f918a8967072
X-WR-CALDESC:
X-WR-RELCALID:d4c6ba4e657cd191f5bbd0316f535fd5
X-WR-TIMEZONE:America/New_York
BEGIN:VTIMEZONE
TZID:America/New_York
BEGIN:STANDARD
TZNAME:EST
DTSTART:20231105T020000
TZOFFSETFROM:-0400
TZOFFSETTO:-0500
RDATE:20241103T020000
END:STANDARD
BEGIN:DAYLIGHT
TZNAME:EDT
DTSTART:20230312T020000
TZOFFSETFROM:-0500
TZOFFSETTO:-0400
RDATE:20240310T020000
RDATE:20250309T020000
END:DAYLIGHT
END:VTIMEZONE
BEGIN:VEVENT
UID:8d901edf-5d5b-4e67-ac69-1206379e09b8
DTSTAMP:20260421T105239Z
DESCRIPTION:
DTSTART;TZID=America/New_York:20240113T060000
DTEND;TZID=America/New_York:20240113T060001
LOCATION:
SUMMARY:12 noon - 2024 Camp Jotoni Spring Respite Registration OPENS
END:VEVENT
END:VCALENDAR
