BEGIN:VCALENDAR
VERSION:2.0
PRODID:-//www.thearcofsomerset.org//NONSGML kigkonsult.se iCalcreator 2.30.
 10//
CALSCALE:GREGORIAN
METHOD:PUBLISH
UID:2adb9c26-f1d2-4860-a343-c57645f87835
X-WR-CALDESC:Opens at 12 noon on Saturday February 3\, 2024
X-WR-RELCALID:cdbccf86c8182d0058b4af80bfc7157a
X-WR-TIMEZONE:America/New_York
BEGIN:VTIMEZONE
TZID:America/New_York
BEGIN:STANDARD
TZNAME:EST
DTSTART:20231105T020000
TZOFFSETFROM:-0400
TZOFFSETTO:-0500
RDATE:20241103T020000
END:STANDARD
BEGIN:DAYLIGHT
TZNAME:EDT
DTSTART:20230312T020000
TZOFFSETFROM:-0500
TZOFFSETTO:-0400
RDATE:20240310T020000
RDATE:20250309T020000
END:DAYLIGHT
END:VTIMEZONE
BEGIN:VEVENT
UID:9b18b3c4-8e97-4384-8253-443f32d78bd4
DTSTAMP:20260421T093001Z
DESCRIPTION:Opens at 12 noon on Saturday February 3\, 2024
DTSTART;TZID=America/New_York:20240203T120000
DTEND;TZID=America/New_York:20240210T180000
LOCATION:https://campjotoni.campbrainregistration.com/
SUMMARY:Camp Jotoni Summer Registration
END:VEVENT
END:VCALENDAR
