BEGIN:VCALENDAR
VERSION:2.0
PRODID:-//www.thearcofsomerset.org//NONSGML kigkonsult.se iCalcreator 2.30.
 10//
CALSCALE:GREGORIAN
METHOD:PUBLISH
UID:a103263f-6fc9-41a2-9b14-7176b869e0c8
X-WR-CALDESC:
X-WR-RELCALID:bfbb8e33a7ecac052df2422138eb34b1
X-WR-TIMEZONE:America/New_York
BEGIN:VTIMEZONE
TZID:America/New_York
BEGIN:STANDARD
TZNAME:EST
DTSTART:20231105T020000
TZOFFSETFROM:-0400
TZOFFSETTO:-0500
RDATE:20241103T020000
RDATE:20251102T020000
END:STANDARD
BEGIN:DAYLIGHT
TZNAME:EDT
DTSTART:20240310T020000
TZOFFSETFROM:-0500
TZOFFSETTO:-0400
RDATE:20250309T020000
END:DAYLIGHT
END:VTIMEZONE
BEGIN:VEVENT
UID:9593064e-9af8-42e9-bf88-3fa637ae16be
DTSTAMP:20260420T215711Z
DESCRIPTION:
DTSTART;TZID=America/New_York:20240830T170000
DTEND;TZID=America/New_York:20240902T150000
LOCATION:51 Old Stirling Rd\, Warren\, NJ 07059 US
SUMMARY:Fall Respite Weekend #1 (4 days)
END:VEVENT
END:VCALENDAR
