BEGIN:VCALENDAR
VERSION:2.0
PRODID:-//www.thearcofsomerset.org//NONSGML kigkonsult.se iCalcreator 2.30.
 10//
CALSCALE:GREGORIAN
METHOD:PUBLISH
UID:ce976825-f8ab-417a-b56d-a58ec0077ed2
X-WR-CALDESC:
X-WR-RELCALID:e370bbe21792d8df7ba10b8edf8425c1
X-WR-TIMEZONE:America/New_York
BEGIN:VTIMEZONE
TZID:America/New_York
BEGIN:STANDARD
TZNAME:EST
DTSTART:20231105T020000
TZOFFSETFROM:-0400
TZOFFSETTO:-0500
RDATE:20241103T020000
RDATE:20251102T020000
END:STANDARD
BEGIN:DAYLIGHT
TZNAME:EDT
DTSTART:20240310T020000
TZOFFSETFROM:-0500
TZOFFSETTO:-0400
RDATE:20250309T020000
RDATE:20260308T020000
END:DAYLIGHT
END:VTIMEZONE
BEGIN:VEVENT
UID:119274f2-f67d-4a5d-af68-4b4c81741d0c
DTSTAMP:20260420T215625Z
DESCRIPTION:
DTSTART;TZID=America/New_York:20240927T170000
DTEND;TZID=America/New_York:20240929T150000
LOCATION:51 Old Stirling Rd\, Warren\, AL 07059 US
SUMMARY:Camp Fall Respite Weekend #3
END:VEVENT
END:VCALENDAR
