BEGIN:VCALENDAR
VERSION:2.0
PRODID:-//www.thearcofsomerset.org//NONSGML kigkonsult.se iCalcreator 2.30.
 10//
CALSCALE:GREGORIAN
METHOD:PUBLISH
UID:c3d3a441-4c63-46c2-8be6-c778dee8c31d
X-WR-CALDESC:
X-WR-RELCALID:d1d958adba8465e5fc43b473c6ab0bc1
X-WR-TIMEZONE:America/New_York
BEGIN:VTIMEZONE
TZID:America/New_York
BEGIN:STANDARD
TZNAME:EST
DTSTART:20231105T020000
TZOFFSETFROM:-0400
TZOFFSETTO:-0500
RDATE:20241103T020000
RDATE:20251102T020000
END:STANDARD
BEGIN:DAYLIGHT
TZNAME:EDT
DTSTART:20240310T020000
TZOFFSETFROM:-0500
TZOFFSETTO:-0400
RDATE:20250309T020000
RDATE:20260308T020000
END:DAYLIGHT
END:VTIMEZONE
BEGIN:VEVENT
UID:12849fcb-6bcb-42bd-9afc-eae93bff25a6
DTSTAMP:20260420T200228Z
DESCRIPTION:
DTSTART;TZID=America/New_York:20241011T170000
DTEND;TZID=America/New_York:20241013T150000
LOCATION:51 Old Stirling Rd\, Warren\, AL 07059 US
SUMMARY:Camp Fall Respite Weekend #4
END:VEVENT
END:VCALENDAR
