BEGIN:VCALENDAR
VERSION:2.0
PRODID:-//www.thearcofsomerset.org//NONSGML kigkonsult.se iCalcreator 2.30.
 10//
CALSCALE:GREGORIAN
METHOD:PUBLISH
UID:42cef1b4-1328-489e-8969-0a132acfba39
X-WR-CALDESC:
X-WR-RELCALID:aa62bce96d238644efc18ff54167c317
X-WR-TIMEZONE:America/New_York
BEGIN:VTIMEZONE
TZID:America/New_York
BEGIN:STANDARD
TZNAME:EST
DTSTART:20231105T020000
TZOFFSETFROM:-0400
TZOFFSETTO:-0500
RDATE:20241103T020000
RDATE:20251102T020000
END:STANDARD
BEGIN:DAYLIGHT
TZNAME:EDT
DTSTART:20240310T020000
TZOFFSETFROM:-0500
TZOFFSETTO:-0400
RDATE:20250309T020000
RDATE:20260308T020000
END:DAYLIGHT
END:VTIMEZONE
BEGIN:VEVENT
UID:591ccfb9-0c76-4178-9cd7-adcbac33f96f
DTSTAMP:20260420T200228Z
DESCRIPTION:
DTSTART;TZID=America/New_York:20241025T170000
DTEND;TZID=America/New_York:20241027T150000
LOCATION:51 Old Stirling Rd\, Warren\, AL 07059 US
SUMMARY:Camp Fall Respite Weekend #5
END:VEVENT
END:VCALENDAR
