BEGIN:VCALENDAR
VERSION:2.0
PRODID:-//www.thearcofsomerset.org//NONSGML kigkonsult.se iCalcreator 2.30.
 10//
CALSCALE:GREGORIAN
METHOD:PUBLISH
UID:4ceec109-70c4-4414-aa93-ad23ce1648f5
X-WR-CALDESC:The 29th Annual Self-Advocacy Conference is scheduled to be he
 ld at the Doubletree Hotel\, Somerset\, New Jersey on Saturday\, October 1
 3\, 2012 from 8:30am to 3:00pm. \n\nRegistration forms will be available s
 ometime in August.\n\nSponsored by: The New Jersey Self-Advocacy Project o
 f The Arc of New Jersey working with The New Jersey Statewide Self-Advocac
 y Network.\n
X-WR-RELCALID:d7c3750d43330ba3bcbbd30520bc7c3d
X-WR-TIMEZONE:America/New_York
BEGIN:VTIMEZONE
TZID:America/New_York
BEGIN:STANDARD
TZNAME:EST
DTSTART:20111106T020000
TZOFFSETFROM:-0400
TZOFFSETTO:-0500
RDATE:20121104T020000
RDATE:20131103T020000
END:STANDARD
BEGIN:DAYLIGHT
TZNAME:EDT
DTSTART:20120311T020000
TZOFFSETFROM:-0500
TZOFFSETTO:-0400
RDATE:20130310T020000
RDATE:20140309T020000
END:DAYLIGHT
END:VTIMEZONE
BEGIN:VEVENT
UID:b7938668-8526-40f7-b74d-0a5f8e05f239
DTSTAMP:20260425T200523Z
DESCRIPTION:The 29th Annual Self-Advocacy Conference is scheduled to be hel
 d at the Doubletree Hotel\, Somerset\, New Jersey on Saturday\, October 13
 \, 2012 from 8:30am to 3:00pm. \n\nRegistration forms will be available so
 metime in August.\n\nSponsored by: The New Jersey Self-Advocacy Project of
  The Arc of New Jersey working with The New Jersey Statewide Self-Advocacy
  Network.\n
DTSTART;TZID=America/New_York:20121013T083000
DTEND;TZID=America/New_York:20121013T160000
LOCATION:Doubletree Hotel\, Somerset\, NJ
SUMMARY:29th Annual Self-Advocacy Conference
END:VEVENT
END:VCALENDAR
