BEGIN:VCALENDAR
VERSION:2.0
PRODID:-//www.thearcofsomerset.org//NONSGML kigkonsult.se iCalcreator 2.30.
 10//
CALSCALE:GREGORIAN
METHOD:PUBLISH
UID:dc911f92-8252-4649-a179-c6b28576bf51
X-WR-CALDESC:
X-WR-RELCALID:7a1a528985714d1afa7758a624114444
X-WR-TIMEZONE:America/New_York
BEGIN:VTIMEZONE
TZID:America/New_York
BEGIN:STANDARD
TZNAME:EST
DTSTART:20201101T020000
TZOFFSETFROM:-0400
TZOFFSETTO:-0500
RDATE:20211107T020000
END:STANDARD
BEGIN:DAYLIGHT
TZNAME:EDT
DTSTART:20200308T020000
TZOFFSETFROM:-0500
TZOFFSETTO:-0400
RDATE:20210314T020000
RDATE:20220313T020000
END:DAYLIGHT
END:VTIMEZONE
BEGIN:VEVENT
UID:30bae433-50be-4f81-8e88-043ddaaccd7f
DTSTAMP:20260426T030804Z
DESCRIPTION:
DTSTART;TZID=America/New_York:20210201T130000
DTEND;TZID=America/New_York:20210201T133000
LOCATION:
SUMMARY:Royal School of Yoga
END:VEVENT
END:VCALENDAR
