BEGIN:VCALENDAR
VERSION:2.0
PRODID:-//www.thearcofsomerset.org//NONSGML kigkonsult.se iCalcreator 2.30.
 10//
CALSCALE:GREGORIAN
METHOD:PUBLISH
UID:32d14d35-fe85-4e72-a588-165cccf643b2
X-WR-CALDESC:
X-WR-RELCALID:3952e2e3df8c9f16264292ee33c60c0d
X-WR-TIMEZONE:America/New_York
BEGIN:VTIMEZONE
TZID:America/New_York
BEGIN:STANDARD
TZNAME:EST
DTSTART:20201101T020000
TZOFFSETFROM:-0400
TZOFFSETTO:-0500
RDATE:20211107T020000
END:STANDARD
BEGIN:DAYLIGHT
TZNAME:EDT
DTSTART:20200308T020000
TZOFFSETFROM:-0500
TZOFFSETTO:-0400
RDATE:20210314T020000
RDATE:20220313T020000
END:DAYLIGHT
END:VTIMEZONE
BEGIN:VEVENT
UID:29083113-2551-40d7-a6c3-7b030bfe4df3
DTSTAMP:20260426T025916Z
DESCRIPTION:
DTSTART;TZID=America/New_York:20210203T101500
DTEND;TZID=America/New_York:20210203T104500
LOCATION:
SUMMARY:Exercise with Friends
END:VEVENT
END:VCALENDAR
