BEGIN:VCALENDAR
VERSION:2.0
PRODID:-//www.thearcofsomerset.org//NONSGML kigkonsult.se iCalcreator 2.30.
 10//
CALSCALE:GREGORIAN
METHOD:PUBLISH
UID:cfd0815c-7b85-4767-936c-3a83ab9eadbc
X-WR-CALDESC:
X-WR-RELCALID:312785638268da88161a46600a97de0d
X-WR-TIMEZONE:America/New_York
BEGIN:VTIMEZONE
TZID:America/New_York
BEGIN:STANDARD
TZNAME:EST
DTSTART:20201101T020000
TZOFFSETFROM:-0400
TZOFFSETTO:-0500
RDATE:20211107T020000
END:STANDARD
BEGIN:DAYLIGHT
TZNAME:EDT
DTSTART:20200308T020000
TZOFFSETFROM:-0500
TZOFFSETTO:-0400
RDATE:20210314T020000
RDATE:20220313T020000
END:DAYLIGHT
END:VTIMEZONE
BEGIN:VEVENT
UID:f430e14f-7a3d-413f-bb73-037313f543e3
DTSTAMP:20260426T030704Z
DESCRIPTION:
DTSTART;TZID=America/New_York:20210203T150000
DTEND;TZID=America/New_York:20210203T153000
LOCATION:
SUMMARY:MedTalks with Rutgers Medical Students – Let’s learn about the COVI
 D vaccine
END:VEVENT
END:VCALENDAR
