BEGIN:VCALENDAR
VERSION:2.0
PRODID:-//www.thearcofsomerset.org//NONSGML kigkonsult.se iCalcreator 2.30.
 10//
CALSCALE:GREGORIAN
METHOD:PUBLISH
UID:656e10aa-8d6a-45e8-9154-a2973d12b403
X-WR-CALDESC:
X-WR-RELCALID:230b2e700666822a35ff1e70de917560
X-WR-TIMEZONE:America/New_York
BEGIN:VTIMEZONE
TZID:America/New_York
BEGIN:STANDARD
TZNAME:EST
DTSTART:20201101T020000
TZOFFSETFROM:-0400
TZOFFSETTO:-0500
RDATE:20211107T020000
END:STANDARD
BEGIN:DAYLIGHT
TZNAME:EDT
DTSTART:20200308T020000
TZOFFSETFROM:-0500
TZOFFSETTO:-0400
RDATE:20210314T020000
RDATE:20220313T020000
END:DAYLIGHT
END:VTIMEZONE
BEGIN:VEVENT
UID:900a24a6-fa43-41e7-9e8f-b406c6bcff9e
DTSTAMP:20260426T030653Z
DESCRIPTION:
DTSTART;TZID=America/New_York:20210204T150000
DTEND;TZID=America/New_York:20210204T153000
LOCATION:
SUMMARY:“Hot TopiX” – Would you Rather: Valentine’s Day Edition!
END:VEVENT
END:VCALENDAR
