BEGIN:VCALENDAR
VERSION:2.0
PRODID:-//www.thearcofsomerset.org//NONSGML kigkonsult.se iCalcreator 2.30.
 10//
CALSCALE:GREGORIAN
METHOD:PUBLISH
UID:03cb7917-9193-4129-9b80-9999b67c3057
X-WR-CALDESC:
X-WR-RELCALID:508c2698d00841700bde2fd6a250f8dd
X-WR-TIMEZONE:America/New_York
BEGIN:VTIMEZONE
TZID:America/New_York
BEGIN:STANDARD
TZNAME:EST
DTSTART:20201101T020000
TZOFFSETFROM:-0400
TZOFFSETTO:-0500
RDATE:20211107T020000
END:STANDARD
BEGIN:DAYLIGHT
TZNAME:EDT
DTSTART:20200308T020000
TZOFFSETFROM:-0500
TZOFFSETTO:-0400
RDATE:20210314T020000
RDATE:20220313T020000
END:DAYLIGHT
END:VTIMEZONE
BEGIN:VEVENT
UID:a1bbb865-ffab-4357-a1e4-43344a54508d
DTSTAMP:20260426T030703Z
DESCRIPTION:
DTSTART;TZID=America/New_York:20210204T130000
DTEND;TZID=America/New_York:20210204T133000
LOCATION:
SUMMARY:“Music for Hope and Inspiration” – Ode to Billy Joel and Steve’s Gr
 eatest Hits!
END:VEVENT
END:VCALENDAR
