BEGIN:VCALENDAR
VERSION:2.0
PRODID:-//www.thearcofsomerset.org//NONSGML kigkonsult.se iCalcreator 2.30.
 10//
CALSCALE:GREGORIAN
METHOD:PUBLISH
UID:d12cf6a1-6dfc-4511-a85b-fa1b0e1bb025
X-WR-CALDESC:
X-WR-RELCALID:c73b9cca65110d28f4ea640fb574df84
X-WR-TIMEZONE:America/New_York
BEGIN:VTIMEZONE
TZID:America/New_York
BEGIN:STANDARD
TZNAME:EST
DTSTART:20201101T020000
TZOFFSETFROM:-0400
TZOFFSETTO:-0500
RDATE:20211107T020000
END:STANDARD
BEGIN:DAYLIGHT
TZNAME:EDT
DTSTART:20200308T020000
TZOFFSETFROM:-0500
TZOFFSETTO:-0400
RDATE:20210314T020000
RDATE:20220313T020000
END:DAYLIGHT
END:VTIMEZONE
BEGIN:VEVENT
UID:f763422c-d1c7-49c4-994c-b585c740adcd
DTSTAMP:20260426T030221Z
DESCRIPTION:
DTSTART;TZID=America/New_York:20210204T100000
DTEND;TZID=America/New_York:20210204T103000
LOCATION:
SUMMARY:Literacy class (Ardsley) –everyone welcome!
END:VEVENT
END:VCALENDAR
