BEGIN:VCALENDAR
VERSION:2.0
PRODID:-//www.thearcofsomerset.org//NONSGML kigkonsult.se iCalcreator 2.30.
 10//
CALSCALE:GREGORIAN
METHOD:PUBLISH
UID:720bf41a-9539-4209-b376-5ba0a594da3a
X-WR-CALDESC:
X-WR-RELCALID:e59477cff0d9e8a2610c31152898f06c
X-WR-TIMEZONE:America/New_York
BEGIN:VTIMEZONE
TZID:America/New_York
BEGIN:STANDARD
TZNAME:EST
DTSTART:20201101T020000
TZOFFSETFROM:-0400
TZOFFSETTO:-0500
RDATE:20211107T020000
END:STANDARD
BEGIN:DAYLIGHT
TZNAME:EDT
DTSTART:20200308T020000
TZOFFSETFROM:-0500
TZOFFSETTO:-0400
RDATE:20210314T020000
RDATE:20220313T020000
END:DAYLIGHT
END:VTIMEZONE
BEGIN:VEVENT
UID:48594c3a-434e-4bc2-822d-c7e9084fd8e8
DTSTAMP:20260426T030221Z
DESCRIPTION:
DTSTART;TZID=America/New_York:20210205T144500
DTEND;TZID=America/New_York:20210205T151500
LOCATION:
SUMMARY:30 Minute Mystery
END:VEVENT
END:VCALENDAR
