BEGIN:VCALENDAR
VERSION:2.0
PRODID:-//www.thearcofsomerset.org//NONSGML kigkonsult.se iCalcreator 2.30.
 10//
CALSCALE:GREGORIAN
METHOD:PUBLISH
UID:db7fec23-edbd-4b3c-bd24-b7a137758e1f
X-WR-CALDESC:
X-WR-RELCALID:5b80c8e2a2a08f166e19b7faf49cca66
X-WR-TIMEZONE:America/New_York
BEGIN:VTIMEZONE
TZID:America/New_York
BEGIN:STANDARD
TZNAME:EST
DTSTART:20201101T020000
TZOFFSETFROM:-0400
TZOFFSETTO:-0500
RDATE:20211107T020000
END:STANDARD
BEGIN:DAYLIGHT
TZNAME:EDT
DTSTART:20200308T020000
TZOFFSETFROM:-0500
TZOFFSETTO:-0400
RDATE:20210314T020000
RDATE:20220313T020000
END:DAYLIGHT
END:VTIMEZONE
BEGIN:VEVENT
UID:8d155659-e45b-47cf-b2cf-cff905e0ca7e
DTSTAMP:20260426T030220Z
DESCRIPTION:
DTSTART;TZID=America/New_York:20210205T130000
DTEND;TZID=America/New_York:20210205T133000
LOCATION:
SUMMARY:Literacy class (Commons 1) - everyone welcome!
END:VEVENT
END:VCALENDAR
