BEGIN:VCALENDAR
VERSION:2.0
PRODID:-//www.thearcofsomerset.org//NONSGML kigkonsult.se iCalcreator 2.30.
 10//
CALSCALE:GREGORIAN
METHOD:PUBLISH
UID:d6765c43-17d1-4d18-b830-e2f676e486ab
X-WR-CALDESC:
X-WR-RELCALID:051cce1d4ac4257185e5f8eb982446f5
X-WR-TIMEZONE:America/New_York
BEGIN:VTIMEZONE
TZID:America/New_York
BEGIN:STANDARD
TZNAME:EST
DTSTART:20201101T020000
TZOFFSETFROM:-0400
TZOFFSETTO:-0500
RDATE:20211107T020000
END:STANDARD
BEGIN:DAYLIGHT
TZNAME:EDT
DTSTART:20200308T020000
TZOFFSETFROM:-0500
TZOFFSETTO:-0400
RDATE:20210314T020000
RDATE:20220313T020000
END:DAYLIGHT
END:VTIMEZONE
BEGIN:VEVENT
UID:016080cf-ea47-4e83-bb96-ce4f96df2637
DTSTAMP:20260426T030254Z
DESCRIPTION:
DTSTART;TZID=America/New_York:20210208T140000
DTEND;TZID=America/New_York:20210208T143000
LOCATION:
SUMMARY:Art with Alec and Tonya
END:VEVENT
END:VCALENDAR
