BEGIN:VCALENDAR
VERSION:2.0
PRODID:-//www.thearcofsomerset.org//NONSGML kigkonsult.se iCalcreator 2.30.
 10//
CALSCALE:GREGORIAN
METHOD:PUBLISH
UID:4be22f49-a67b-426c-87a2-e9b0d7377d1f
X-WR-CALDESC:
X-WR-RELCALID:ae5ae39b9388ebbb4c93d63fac4ec40a
X-WR-TIMEZONE:America/New_York
BEGIN:VTIMEZONE
TZID:America/New_York
BEGIN:STANDARD
TZNAME:EST
DTSTART:20201101T020000
TZOFFSETFROM:-0400
TZOFFSETTO:-0500
RDATE:20211107T020000
END:STANDARD
BEGIN:DAYLIGHT
TZNAME:EDT
DTSTART:20200308T020000
TZOFFSETFROM:-0500
TZOFFSETTO:-0400
RDATE:20210314T020000
RDATE:20220313T020000
END:DAYLIGHT
END:VTIMEZONE
BEGIN:VEVENT
UID:5b697433-3528-41ce-b8ff-cdc29a9b0fdc
DTSTAMP:20260426T030804Z
DESCRIPTION:
DTSTART;TZID=America/New_York:20210208T130000
DTEND;TZID=America/New_York:20210208T133000
LOCATION:
SUMMARY:Royal School of Yoga
END:VEVENT
END:VCALENDAR
