BEGIN:VCALENDAR
VERSION:2.0
PRODID:-//www.thearcofsomerset.org//NONSGML kigkonsult.se iCalcreator 2.30.
 10//
CALSCALE:GREGORIAN
METHOD:PUBLISH
UID:3f36ff68-4731-482a-91fd-f8c6457888bf
X-WR-CALDESC:
X-WR-RELCALID:0755893f153b0f0a5f475b7de97f0f12
X-WR-TIMEZONE:America/New_York
BEGIN:VTIMEZONE
TZID:America/New_York
BEGIN:STANDARD
TZNAME:EST
DTSTART:20201101T020000
TZOFFSETFROM:-0400
TZOFFSETTO:-0500
RDATE:20211107T020000
END:STANDARD
BEGIN:DAYLIGHT
TZNAME:EDT
DTSTART:20200308T020000
TZOFFSETFROM:-0500
TZOFFSETTO:-0400
RDATE:20210314T020000
RDATE:20220313T020000
END:DAYLIGHT
END:VTIMEZONE
BEGIN:VEVENT
UID:7406e04e-49a1-4b87-8a25-0d3f60c9d8ad
DTSTAMP:20260426T030826Z
DESCRIPTION:
DTSTART;TZID=America/New_York:20210209T130000
DTEND;TZID=America/New_York:20210209T133000
LOCATION:
SUMMARY:“Music for Hope and Inspiration”  Guest Musician: Justin Brown
END:VEVENT
END:VCALENDAR
