BEGIN:VCALENDAR
VERSION:2.0
PRODID:-//www.thearcofsomerset.org//NONSGML kigkonsult.se iCalcreator 2.30.
 10//
CALSCALE:GREGORIAN
METHOD:PUBLISH
UID:1103774b-9a5d-4481-a0e3-d5f61edddd37
X-WR-CALDESC:
X-WR-RELCALID:8186d1c3238cee9b12313b2aa21f33d3
X-WR-TIMEZONE:America/New_York
BEGIN:VTIMEZONE
TZID:America/New_York
BEGIN:STANDARD
TZNAME:EST
DTSTART:20201101T020000
TZOFFSETFROM:-0400
TZOFFSETTO:-0500
RDATE:20211107T020000
END:STANDARD
BEGIN:DAYLIGHT
TZNAME:EDT
DTSTART:20200308T020000
TZOFFSETFROM:-0500
TZOFFSETTO:-0400
RDATE:20210314T020000
RDATE:20220313T020000
END:DAYLIGHT
END:VTIMEZONE
BEGIN:VEVENT
UID:f9882414-d6b0-4a11-8564-74c8fe02e3fa
DTSTAMP:20260426T030255Z
DESCRIPTION:
DTSTART;TZID=America/New_York:20210209T103000
DTEND;TZID=America/New_York:20210209T110000
LOCATION:
SUMMARY:Literacy class (Griggstown) everyone welcome!
END:VEVENT
END:VCALENDAR
