BEGIN:VCALENDAR
VERSION:2.0
PRODID:-//www.thearcofsomerset.org//NONSGML kigkonsult.se iCalcreator 2.30.
 10//
CALSCALE:GREGORIAN
METHOD:PUBLISH
UID:4b38df14-3483-48f9-958b-18196d249d0d
X-WR-CALDESC:
X-WR-RELCALID:85417c08b68562dd3a4019ca79d7a83f
X-WR-TIMEZONE:America/New_York
BEGIN:VTIMEZONE
TZID:America/New_York
BEGIN:STANDARD
TZNAME:EST
DTSTART:20201101T020000
TZOFFSETFROM:-0400
TZOFFSETTO:-0500
RDATE:20211107T020000
END:STANDARD
BEGIN:DAYLIGHT
TZNAME:EDT
DTSTART:20200308T020000
TZOFFSETFROM:-0500
TZOFFSETTO:-0400
RDATE:20210314T020000
RDATE:20220313T020000
END:DAYLIGHT
END:VTIMEZONE
BEGIN:VEVENT
UID:d49d3f28-ca5f-4891-9db7-899f15cd057a
DTSTAMP:20260426T030418Z
DESCRIPTION:
DTSTART;TZID=America/New_York:20210209T130000
DTEND;TZID=America/New_York:20210209T133000
LOCATION:
SUMMARY:Literacy class (RHGH) everyone welcome!
END:VEVENT
END:VCALENDAR
