BEGIN:VCALENDAR
VERSION:2.0
PRODID:-//www.thearcofsomerset.org//NONSGML kigkonsult.se iCalcreator 2.30.
 10//
CALSCALE:GREGORIAN
METHOD:PUBLISH
UID:b74b8242-b5c4-42e3-a78d-e8d4fe918809
X-WR-CALDESC:
X-WR-RELCALID:13e7b11a0f48f75183c2f878ed3aab55
X-WR-TIMEZONE:America/New_York
BEGIN:VTIMEZONE
TZID:America/New_York
BEGIN:STANDARD
TZNAME:EST
DTSTART:20201101T020000
TZOFFSETFROM:-0400
TZOFFSETTO:-0500
RDATE:20211107T020000
END:STANDARD
BEGIN:DAYLIGHT
TZNAME:EDT
DTSTART:20200308T020000
TZOFFSETFROM:-0500
TZOFFSETTO:-0400
RDATE:20210314T020000
RDATE:20220313T020000
END:DAYLIGHT
END:VTIMEZONE
BEGIN:VEVENT
UID:a1acd187-3bc8-40aa-8ad1-c4d47a673965
DTSTAMP:20260426T030311Z
DESCRIPTION:
DTSTART;TZID=America/New_York:20210209T140000
DTEND;TZID=America/New_York:20210209T143000
LOCATION:
SUMMARY:Literacy class (UA2) –  everyone welcome!
END:VEVENT
END:VCALENDAR
