BEGIN:VCALENDAR
VERSION:2.0
PRODID:-//www.thearcofsomerset.org//NONSGML kigkonsult.se iCalcreator 2.30.
 10//
CALSCALE:GREGORIAN
METHOD:PUBLISH
UID:cb2a73c3-c694-423c-90e7-50b5b5299c3a
X-WR-CALDESC:
X-WR-RELCALID:2302afc2f214560b8073562a359eef8e
X-WR-TIMEZONE:America/New_York
BEGIN:VTIMEZONE
TZID:America/New_York
BEGIN:STANDARD
TZNAME:EST
DTSTART:20201101T020000
TZOFFSETFROM:-0400
TZOFFSETTO:-0500
RDATE:20211107T020000
END:STANDARD
BEGIN:DAYLIGHT
TZNAME:EDT
DTSTART:20200308T020000
TZOFFSETFROM:-0500
TZOFFSETTO:-0400
RDATE:20210314T020000
RDATE:20220313T020000
END:DAYLIGHT
END:VTIMEZONE
BEGIN:VEVENT
UID:11726aa1-e52c-4659-b4f9-243d3e0fefeb
DTSTAMP:20260426T030310Z
DESCRIPTION:
DTSTART;TZID=America/New_York:20210210T111500
DTEND;TZID=America/New_York:20210210T234500
LOCATION:
SUMMARY:SGH Literacy class – all welcome!
END:VEVENT
END:VCALENDAR
