BEGIN:VCALENDAR
VERSION:2.0
PRODID:-//www.thearcofsomerset.org//NONSGML kigkonsult.se iCalcreator 2.30.
 10//
CALSCALE:GREGORIAN
METHOD:PUBLISH
UID:b25f734c-a93a-4377-9d3f-22d8e35981cf
X-WR-CALDESC:
X-WR-RELCALID:34e2daed3e36c4a418155d7fa29b46ca
X-WR-TIMEZONE:America/New_York
BEGIN:VTIMEZONE
TZID:America/New_York
BEGIN:STANDARD
TZNAME:EST
DTSTART:20201101T020000
TZOFFSETFROM:-0400
TZOFFSETTO:-0500
RDATE:20211107T020000
END:STANDARD
BEGIN:DAYLIGHT
TZNAME:EDT
DTSTART:20200308T020000
TZOFFSETFROM:-0500
TZOFFSETTO:-0400
RDATE:20210314T020000
RDATE:20220313T020000
END:DAYLIGHT
END:VTIMEZONE
BEGIN:VEVENT
UID:c25170ce-cb45-4cc5-b7ce-942e35ebfc79
DTSTAMP:20260426T030537Z
DESCRIPTION:
DTSTART;TZID=America/New_York:20210211T101500
DTEND;TZID=America/New_York:20210211T104500
LOCATION:
SUMMARY:“Cool Collections” memorabilia group – Frances’s DVD Collection!
END:VEVENT
END:VCALENDAR
