BEGIN:VCALENDAR
VERSION:2.0
PRODID:-//www.thearcofsomerset.org//NONSGML kigkonsult.se iCalcreator 2.30.
 10//
CALSCALE:GREGORIAN
METHOD:PUBLISH
UID:c000143a-fc10-41ca-a31c-d556b1b080a4
X-WR-CALDESC:
X-WR-RELCALID:12202df2e1cc126eb34fa00eb9b2c893
X-WR-TIMEZONE:America/New_York
BEGIN:VTIMEZONE
TZID:America/New_York
BEGIN:STANDARD
TZNAME:EST
DTSTART:20201101T020000
TZOFFSETFROM:-0400
TZOFFSETTO:-0500
RDATE:20211107T020000
END:STANDARD
BEGIN:DAYLIGHT
TZNAME:EDT
DTSTART:20200308T020000
TZOFFSETFROM:-0500
TZOFFSETTO:-0400
RDATE:20210314T020000
RDATE:20220313T020000
END:DAYLIGHT
END:VTIMEZONE
BEGIN:VEVENT
UID:c8899a74-e83f-49db-9fe6-8814e96c3dff
DTSTAMP:20260426T030536Z
DESCRIPTION:
DTSTART;TZID=America/New_York:20210211T150000
DTEND;TZID=America/New_York:20210211T153000
LOCATION:
SUMMARY:“Hot TopiX” –  Trigger\, Brutus and Rosie
END:VEVENT
END:VCALENDAR
