BEGIN:VCALENDAR
VERSION:2.0
PRODID:-//www.thearcofsomerset.org//NONSGML kigkonsult.se iCalcreator 2.30.
 10//
CALSCALE:GREGORIAN
METHOD:PUBLISH
UID:4e440ca1-fffb-4388-b2a3-35f341173977
X-WR-CALDESC:
X-WR-RELCALID:a514bf186cd9a4e33010151a65f32640
X-WR-TIMEZONE:America/New_York
BEGIN:VTIMEZONE
TZID:America/New_York
BEGIN:STANDARD
TZNAME:EST
DTSTART:20201101T020000
TZOFFSETFROM:-0400
TZOFFSETTO:-0500
RDATE:20211107T020000
END:STANDARD
BEGIN:DAYLIGHT
TZNAME:EDT
DTSTART:20200308T020000
TZOFFSETFROM:-0500
TZOFFSETTO:-0400
RDATE:20210314T020000
RDATE:20220313T020000
END:DAYLIGHT
END:VTIMEZONE
BEGIN:VEVENT
UID:a4cf776b-65c0-42fc-b823-428f439d8b2a
DTSTAMP:20260426T030826Z
DESCRIPTION:
DTSTART;TZID=America/New_York:20210211T130000
DTEND;TZID=America/New_York:20210211T133000
LOCATION:
SUMMARY:“Music for Hope and Inspiration” - Guitar and Storytelling with Fel
 ix
END:VEVENT
END:VCALENDAR
