BEGIN:VCALENDAR
VERSION:2.0
PRODID:-//www.thearcofsomerset.org//NONSGML kigkonsult.se iCalcreator 2.30.
 10//
CALSCALE:GREGORIAN
METHOD:PUBLISH
UID:0bf53b12-f4bb-4d9f-ba71-bd43471a8903
X-WR-CALDESC:
X-WR-RELCALID:81d17037f8683529b252b5d84ddefb78
X-WR-TIMEZONE:America/New_York
BEGIN:VTIMEZONE
TZID:America/New_York
BEGIN:STANDARD
TZNAME:EST
DTSTART:20201101T020000
TZOFFSETFROM:-0400
TZOFFSETTO:-0500
RDATE:20211107T020000
END:STANDARD
BEGIN:DAYLIGHT
TZNAME:EDT
DTSTART:20200308T020000
TZOFFSETFROM:-0500
TZOFFSETTO:-0400
RDATE:20210314T020000
RDATE:20220313T020000
END:DAYLIGHT
END:VTIMEZONE
BEGIN:VEVENT
UID:c2871115-2394-49ed-95f2-959321fa2d83
DTSTAMP:20260426T030219Z
DESCRIPTION:
DTSTART;TZID=America/New_York:20210211T100000
DTEND;TZID=America/New_York:20210211T103000
LOCATION:
SUMMARY:Literacy class (Ardsley) –  everyone welcome!
END:VEVENT
END:VCALENDAR
