BEGIN:VCALENDAR
VERSION:2.0
PRODID:-//www.thearcofsomerset.org//NONSGML kigkonsult.se iCalcreator 2.30.
 10//
CALSCALE:GREGORIAN
METHOD:PUBLISH
UID:64f4be0c-208e-49ed-bf00-c03b0496a39c
X-WR-CALDESC:
X-WR-RELCALID:03526e1dfbdae5731305642d1cdd8719
X-WR-TIMEZONE:America/New_York
BEGIN:VTIMEZONE
TZID:America/New_York
BEGIN:STANDARD
TZNAME:EST
DTSTART:20201101T020000
TZOFFSETFROM:-0400
TZOFFSETTO:-0500
RDATE:20211107T020000
END:STANDARD
BEGIN:DAYLIGHT
TZNAME:EDT
DTSTART:20200308T020000
TZOFFSETFROM:-0500
TZOFFSETTO:-0400
RDATE:20210314T020000
RDATE:20220313T020000
END:DAYLIGHT
END:VTIMEZONE
BEGIN:VEVENT
UID:a7a02f84-201e-4f72-b374-d7a717e62ba9
DTSTAMP:20260426T030340Z
DESCRIPTION:
DTSTART;TZID=America/New_York:20210211T111500
DTEND;TZID=America/New_York:20210211T234500
LOCATION:
SUMMARY:Literacy class (Cambridge)- everyone welcome!
END:VEVENT
END:VCALENDAR
