BEGIN:VCALENDAR
VERSION:2.0
PRODID:-//www.thearcofsomerset.org//NONSGML kigkonsult.se iCalcreator 2.30.
 10//
CALSCALE:GREGORIAN
METHOD:PUBLISH
UID:9b0a3959-d089-4d0f-a181-0835c12d47b5
X-WR-CALDESC:
X-WR-RELCALID:252ead3351bdeef418bfeaf02dd77c2f
X-WR-TIMEZONE:America/New_York
BEGIN:VTIMEZONE
TZID:America/New_York
BEGIN:STANDARD
TZNAME:EST
DTSTART:20201101T020000
TZOFFSETFROM:-0400
TZOFFSETTO:-0500
RDATE:20211107T020000
END:STANDARD
BEGIN:DAYLIGHT
TZNAME:EDT
DTSTART:20200308T020000
TZOFFSETFROM:-0500
TZOFFSETTO:-0400
RDATE:20210314T020000
RDATE:20220313T020000
END:DAYLIGHT
END:VTIMEZONE
BEGIN:VEVENT
UID:dd0e5c1c-ed03-4447-9a92-66770e99e58b
DTSTAMP:20260426T030220Z
DESCRIPTION:
DTSTART;TZID=America/New_York:20210212T144500
DTEND;TZID=America/New_York:20210212T151500
LOCATION:
SUMMARY:30 Minute Mystery
END:VEVENT
END:VCALENDAR
