BEGIN:VCALENDAR
VERSION:2.0
PRODID:-//www.thearcofsomerset.org//NONSGML kigkonsult.se iCalcreator 2.30.
 10//
CALSCALE:GREGORIAN
METHOD:PUBLISH
UID:a56d805e-8321-4773-8f23-7a2ac52fcef0
X-WR-CALDESC:
X-WR-RELCALID:f1d389b713e44cd0c20e6b8570c58a34
X-WR-TIMEZONE:America/New_York
BEGIN:VTIMEZONE
TZID:America/New_York
BEGIN:STANDARD
TZNAME:EST
DTSTART:20201101T020000
TZOFFSETFROM:-0400
TZOFFSETTO:-0500
RDATE:20211107T020000
END:STANDARD
BEGIN:DAYLIGHT
TZNAME:EDT
DTSTART:20200308T020000
TZOFFSETFROM:-0500
TZOFFSETTO:-0400
RDATE:20210314T020000
RDATE:20220313T020000
END:DAYLIGHT
END:VTIMEZONE
BEGIN:VEVENT
UID:62bbd635-e1d7-45f0-b0e4-707b18579dd9
DTSTAMP:20260426T025921Z
DESCRIPTION:
DTSTART;TZID=America/New_York:20210212T110000
DTEND;TZID=America/New_York:20210212T113000
LOCATION:
SUMMARY:Exercise with Friends
END:VEVENT
END:VCALENDAR
