BEGIN:VCALENDAR
VERSION:2.0
PRODID:-//www.thearcofsomerset.org//NONSGML kigkonsult.se iCalcreator 2.30.
 10//
CALSCALE:GREGORIAN
METHOD:PUBLISH
UID:054a84b4-abab-4179-87b3-51d6030f622a
X-WR-CALDESC:
X-WR-RELCALID:0c70c1ae532fecb656c25b32159bc8a5
X-WR-TIMEZONE:America/New_York
BEGIN:VTIMEZONE
TZID:America/New_York
BEGIN:STANDARD
TZNAME:EST
DTSTART:20201101T020000
TZOFFSETFROM:-0400
TZOFFSETTO:-0500
RDATE:20211107T020000
END:STANDARD
BEGIN:DAYLIGHT
TZNAME:EDT
DTSTART:20200308T020000
TZOFFSETFROM:-0500
TZOFFSETTO:-0400
RDATE:20210314T020000
RDATE:20220313T020000
END:DAYLIGHT
END:VTIMEZONE
BEGIN:VEVENT
UID:57bede1a-338a-485b-8fdb-917e93adf506
DTSTAMP:20260426T030220Z
DESCRIPTION:
DTSTART;TZID=America/New_York:20210212T130000
DTEND;TZID=America/New_York:20210212T133000
LOCATION:
SUMMARY:Literacy class (Commons 1) - everyone welcome!
END:VEVENT
END:VCALENDAR
