BEGIN:VCALENDAR
VERSION:2.0
PRODID:-//www.thearcofsomerset.org//NONSGML kigkonsult.se iCalcreator 2.30.
 10//
CALSCALE:GREGORIAN
METHOD:PUBLISH
UID:b4ce48b3-21bf-4dda-b075-18dd44a1bde5
X-WR-CALDESC:
X-WR-RELCALID:90ba5a0ca419ab034154b6324f78e302
X-WR-TIMEZONE:America/New_York
BEGIN:VTIMEZONE
TZID:America/New_York
BEGIN:STANDARD
TZNAME:EST
DTSTART:20201101T020000
TZOFFSETFROM:-0400
TZOFFSETTO:-0500
RDATE:20211107T020000
END:STANDARD
BEGIN:DAYLIGHT
TZNAME:EDT
DTSTART:20200308T020000
TZOFFSETFROM:-0500
TZOFFSETTO:-0400
RDATE:20210314T020000
RDATE:20220313T020000
END:DAYLIGHT
END:VTIMEZONE
BEGIN:VEVENT
UID:80152646-664b-4fc8-88f2-6d174a6bc51f
DTSTAMP:20260426T030803Z
DESCRIPTION:
DTSTART;TZID=America/New_York:20210216T130000
DTEND;TZID=America/New_York:20210216T133000
LOCATION:
SUMMARY:“Music for Hope and Inspiration” – Coffeehouse Project
END:VEVENT
END:VCALENDAR
