BEGIN:VCALENDAR
VERSION:2.0
PRODID:-//www.thearcofsomerset.org//NONSGML kigkonsult.se iCalcreator 2.30.
 10//
CALSCALE:GREGORIAN
METHOD:PUBLISH
UID:7c107b52-b7e0-48ea-9e00-f2a8154a81c1
X-WR-CALDESC:
X-WR-RELCALID:64afce233ab0a4fb8b1783c38b565bd2
X-WR-TIMEZONE:America/New_York
BEGIN:VTIMEZONE
TZID:America/New_York
BEGIN:STANDARD
TZNAME:EST
DTSTART:20201101T020000
TZOFFSETFROM:-0400
TZOFFSETTO:-0500
RDATE:20211107T020000
END:STANDARD
BEGIN:DAYLIGHT
TZNAME:EDT
DTSTART:20200308T020000
TZOFFSETFROM:-0500
TZOFFSETTO:-0400
RDATE:20210314T020000
RDATE:20220313T020000
END:DAYLIGHT
END:VTIMEZONE
BEGIN:VEVENT
UID:b7f1e6e9-b339-41f0-bc79-6b3251633cf1
DTSTAMP:20260426T030417Z
DESCRIPTION:
DTSTART;TZID=America/New_York:20210216T140000
DTEND;TZID=America/New_York:20210216T143000
LOCATION:
SUMMARY:Literacy class (UA2) –  Everyone welcome!
END:VEVENT
END:VCALENDAR
