BEGIN:VCALENDAR
VERSION:2.0
PRODID:-//www.thearcofsomerset.org//NONSGML kigkonsult.se iCalcreator 2.30.
 10//
CALSCALE:GREGORIAN
METHOD:PUBLISH
UID:7976bc21-7169-436e-aa97-8eb0371b4c2e
X-WR-CALDESC:
X-WR-RELCALID:df6e7fe6cb6fbf30f1a651cae480897d
X-WR-TIMEZONE:America/New_York
BEGIN:VTIMEZONE
TZID:America/New_York
BEGIN:STANDARD
TZNAME:EST
DTSTART:20201101T020000
TZOFFSETFROM:-0400
TZOFFSETTO:-0500
RDATE:20211107T020000
END:STANDARD
BEGIN:DAYLIGHT
TZNAME:EDT
DTSTART:20200308T020000
TZOFFSETFROM:-0500
TZOFFSETTO:-0400
RDATE:20210314T020000
RDATE:20220313T020000
END:DAYLIGHT
END:VTIMEZONE
BEGIN:VEVENT
UID:ef48535c-9308-4355-9cc5-52a9be93ad2e
DTSTAMP:20260426T030535Z
DESCRIPTION:
DTSTART;TZID=America/New_York:20210216T130000
DTEND;TZID=America/New_York:20210216T133000
LOCATION:
SUMMARY:RHGH Literacy class – all welcome!
END:VEVENT
END:VCALENDAR
