BEGIN:VCALENDAR
VERSION:2.0
PRODID:-//www.thearcofsomerset.org//NONSGML kigkonsult.se iCalcreator 2.30.
 10//
CALSCALE:GREGORIAN
METHOD:PUBLISH
UID:eb4401c3-8958-4ba1-859d-6e2e27551802
X-WR-CALDESC:
X-WR-RELCALID:df5c49bb4917642d30bb57cc6d6e2f79
X-WR-TIMEZONE:America/New_York
BEGIN:VTIMEZONE
TZID:America/New_York
BEGIN:STANDARD
TZNAME:EST
DTSTART:20201101T020000
TZOFFSETFROM:-0400
TZOFFSETTO:-0500
RDATE:20211107T020000
END:STANDARD
BEGIN:DAYLIGHT
TZNAME:EDT
DTSTART:20200308T020000
TZOFFSETFROM:-0500
TZOFFSETTO:-0400
RDATE:20210314T020000
RDATE:20220313T020000
END:DAYLIGHT
END:VTIMEZONE
BEGIN:VEVENT
UID:11edc182-603e-47c0-9d01-ac523951187f
DTSTAMP:20260426T030202Z
DESCRIPTION:
DTSTART;TZID=America/New_York:20210217T130000
DTEND;TZID=America/New_York:20210217T133000
LOCATION:
SUMMARY:30 Minute Mystery
END:VEVENT
END:VCALENDAR
