BEGIN:VCALENDAR
VERSION:2.0
PRODID:-//www.thearcofsomerset.org//NONSGML kigkonsult.se iCalcreator 2.30.
 10//
CALSCALE:GREGORIAN
METHOD:PUBLISH
UID:93aa3d5f-9ffb-4401-9859-6cbcdaf58fd7
X-WR-CALDESC:
X-WR-RELCALID:46be90e66c8756b1900cd981af6bd8cd
X-WR-TIMEZONE:America/New_York
BEGIN:VTIMEZONE
TZID:America/New_York
BEGIN:STANDARD
TZNAME:EST
DTSTART:20201101T020000
TZOFFSETFROM:-0400
TZOFFSETTO:-0500
RDATE:20211107T020000
END:STANDARD
BEGIN:DAYLIGHT
TZNAME:EDT
DTSTART:20200308T020000
TZOFFSETFROM:-0500
TZOFFSETTO:-0400
RDATE:20210314T020000
RDATE:20220313T020000
END:DAYLIGHT
END:VTIMEZONE
BEGIN:VEVENT
UID:c71f11f4-cfa5-44a4-a80e-e28d7d11a16a
DTSTAMP:20260426T030407Z
DESCRIPTION:
DTSTART;TZID=America/New_York:20210217T111500
DTEND;TZID=America/New_York:20210217T114500
LOCATION:
SUMMARY:SGH Literacy class – all welcome!
END:VEVENT
END:VCALENDAR
