BEGIN:VCALENDAR
VERSION:2.0
PRODID:-//www.thearcofsomerset.org//NONSGML kigkonsult.se iCalcreator 2.30.
 10//
CALSCALE:GREGORIAN
METHOD:PUBLISH
UID:dbe89875-4e2a-4d84-8605-ea439bde43e5
X-WR-CALDESC:
X-WR-RELCALID:45c85dbc921868bdda04e7ecd1053263
X-WR-TIMEZONE:America/New_York
BEGIN:VTIMEZONE
TZID:America/New_York
BEGIN:STANDARD
TZNAME:EST
DTSTART:20201101T020000
TZOFFSETFROM:-0400
TZOFFSETTO:-0500
RDATE:20211107T020000
END:STANDARD
BEGIN:DAYLIGHT
TZNAME:EDT
DTSTART:20200308T020000
TZOFFSETFROM:-0500
TZOFFSETTO:-0400
RDATE:20210314T020000
RDATE:20220313T020000
END:DAYLIGHT
END:VTIMEZONE
BEGIN:VEVENT
UID:3d2476fd-9e1f-42dd-ac0f-4b985aa7f5d8
DTSTAMP:20260426T030340Z
DESCRIPTION:
DTSTART;TZID=America/New_York:20210219T144500
DTEND;TZID=America/New_York:20210219T151500
LOCATION:
SUMMARY:30 Minute Mystery
END:VEVENT
END:VCALENDAR
