BEGIN:VCALENDAR
VERSION:2.0
PRODID:-//www.thearcofsomerset.org//NONSGML kigkonsult.se iCalcreator 2.30.
 10//
CALSCALE:GREGORIAN
METHOD:PUBLISH
UID:2bcc9215-af77-447b-8b1c-d921285e45b8
X-WR-CALDESC:
X-WR-RELCALID:e26f86f7163fe363be54149725edd00c
X-WR-TIMEZONE:America/New_York
BEGIN:VTIMEZONE
TZID:America/New_York
BEGIN:STANDARD
TZNAME:EST
DTSTART:20201101T020000
TZOFFSETFROM:-0400
TZOFFSETTO:-0500
RDATE:20211107T020000
END:STANDARD
BEGIN:DAYLIGHT
TZNAME:EDT
DTSTART:20200308T020000
TZOFFSETFROM:-0500
TZOFFSETTO:-0400
RDATE:20210314T020000
RDATE:20220313T020000
END:DAYLIGHT
END:VTIMEZONE
BEGIN:VEVENT
UID:05cafef4-6b37-4654-ab72-8d9ef91f49ec
DTSTAMP:20260426T030205Z
DESCRIPTION:
DTSTART;TZID=America/New_York:20210219T100000
DTEND;TZID=America/New_York:20210219T103000
LOCATION:
SUMMARY:Bingo with Mary
END:VEVENT
END:VCALENDAR
