BEGIN:VCALENDAR
VERSION:2.0
PRODID:-//www.thearcofsomerset.org//NONSGML kigkonsult.se iCalcreator 2.30.
 10//
CALSCALE:GREGORIAN
METHOD:PUBLISH
UID:7a6e929d-f067-4c91-ae06-50ff8a6772a4
X-WR-CALDESC:
X-WR-RELCALID:13668d53320dc1a55c7cf60e7e83fcdb
X-WR-TIMEZONE:America/New_York
BEGIN:VTIMEZONE
TZID:America/New_York
BEGIN:STANDARD
TZNAME:EST
DTSTART:20201101T020000
TZOFFSETFROM:-0400
TZOFFSETTO:-0500
RDATE:20211107T020000
END:STANDARD
BEGIN:DAYLIGHT
TZNAME:EDT
DTSTART:20200308T020000
TZOFFSETFROM:-0500
TZOFFSETTO:-0400
RDATE:20210314T020000
RDATE:20220313T020000
END:DAYLIGHT
END:VTIMEZONE
BEGIN:VEVENT
UID:fd0bffb1-b3cc-4674-bb46-e83bce8c9b92
DTSTAMP:20260426T025933Z
DESCRIPTION:
DTSTART;TZID=America/New_York:20210219T110000
DTEND;TZID=America/New_York:20210219T113000
LOCATION:
SUMMARY:Exercise with Friends
END:VEVENT
END:VCALENDAR
