BEGIN:VCALENDAR
VERSION:2.0
PRODID:-//www.thearcofsomerset.org//NONSGML kigkonsult.se iCalcreator 2.30.
 10//
CALSCALE:GREGORIAN
METHOD:PUBLISH
UID:45473259-47ce-4a40-9f4c-fcf4b7282822
X-WR-CALDESC:
X-WR-RELCALID:8df8238ecd530ae54d76c7466778f4f0
X-WR-TIMEZONE:America/New_York
BEGIN:VTIMEZONE
TZID:America/New_York
BEGIN:STANDARD
TZNAME:EST
DTSTART:20201101T020000
TZOFFSETFROM:-0400
TZOFFSETTO:-0500
RDATE:20211107T020000
END:STANDARD
BEGIN:DAYLIGHT
TZNAME:EDT
DTSTART:20200308T020000
TZOFFSETFROM:-0500
TZOFFSETTO:-0400
RDATE:20210314T020000
RDATE:20220313T020000
END:DAYLIGHT
END:VTIMEZONE
BEGIN:VEVENT
UID:7206ee7e-96e5-46d5-8b95-9cbb7b6807be
DTSTAMP:20260426T030504Z
DESCRIPTION:
DTSTART;TZID=America/New_York:20210222T140000
DTEND;TZID=America/New_York:20210222T143000
LOCATION:
SUMMARY:Art with Alec and Tonya
END:VEVENT
END:VCALENDAR
