BEGIN:VCALENDAR
VERSION:2.0
PRODID:-//www.thearcofsomerset.org//NONSGML kigkonsult.se iCalcreator 2.30.
 10//
CALSCALE:GREGORIAN
METHOD:PUBLISH
UID:1411495a-2d54-4b19-a0a3-6b7efe2745a7
X-WR-CALDESC:
X-WR-RELCALID:6e8e4b858c097caf01029e8e546a57eb
X-WR-TIMEZONE:America/New_York
BEGIN:VTIMEZONE
TZID:America/New_York
BEGIN:STANDARD
TZNAME:EST
DTSTART:20201101T020000
TZOFFSETFROM:-0400
TZOFFSETTO:-0500
RDATE:20211107T020000
END:STANDARD
BEGIN:DAYLIGHT
TZNAME:EDT
DTSTART:20200308T020000
TZOFFSETFROM:-0500
TZOFFSETTO:-0400
RDATE:20210314T020000
RDATE:20220313T020000
END:DAYLIGHT
END:VTIMEZONE
BEGIN:VEVENT
UID:62b2ec3f-2fe5-4cd0-adda-febf8fba8513
DTSTAMP:20260426T030631Z
DESCRIPTION:
DTSTART;TZID=America/New_York:20210223T150000
DTEND;TZID=America/New_York:20210223T153000
LOCATION:
SUMMARY:“Hot TopiX” – Guess that President!
END:VEVENT
END:VCALENDAR
