BEGIN:VCALENDAR
VERSION:2.0
PRODID:-//www.thearcofsomerset.org//NONSGML kigkonsult.se iCalcreator 2.30.
 10//
CALSCALE:GREGORIAN
METHOD:PUBLISH
UID:886f1e3c-9c0b-43fa-b9c6-1557af2fc583
X-WR-CALDESC:
X-WR-RELCALID:8f4e3948ee3951d296304d1cc11c45ac
X-WR-TIMEZONE:America/New_York
BEGIN:VTIMEZONE
TZID:America/New_York
BEGIN:STANDARD
TZNAME:EST
DTSTART:20201101T020000
TZOFFSETFROM:-0400
TZOFFSETTO:-0500
RDATE:20211107T020000
END:STANDARD
BEGIN:DAYLIGHT
TZNAME:EDT
DTSTART:20200308T020000
TZOFFSETFROM:-0500
TZOFFSETTO:-0400
RDATE:20210314T020000
RDATE:20220313T020000
END:DAYLIGHT
END:VTIMEZONE
BEGIN:VEVENT
UID:1a498315-0d66-4cc6-bd21-9c80e5f222a0
DTSTAMP:20260426T030341Z
DESCRIPTION:
DTSTART;TZID=America/New_York:20210223T140000
DTEND;TZID=America/New_York:20210223T143000
LOCATION:
SUMMARY:Literacy class (UA2) –  everyone welcome!
END:VEVENT
END:VCALENDAR
