BEGIN:VCALENDAR
VERSION:2.0
PRODID:-//www.thearcofsomerset.org//NONSGML kigkonsult.se iCalcreator 2.30.
 10//
CALSCALE:GREGORIAN
METHOD:PUBLISH
UID:9fcc8dcc-9efa-460e-8b60-9f3a72bcc15d
X-WR-CALDESC:
X-WR-RELCALID:3d13ea22961f88cd865900f63367f817
X-WR-TIMEZONE:America/New_York
BEGIN:VTIMEZONE
TZID:America/New_York
BEGIN:STANDARD
TZNAME:EST
DTSTART:20201101T020000
TZOFFSETFROM:-0400
TZOFFSETTO:-0500
RDATE:20211107T020000
END:STANDARD
BEGIN:DAYLIGHT
TZNAME:EDT
DTSTART:20200308T020000
TZOFFSETFROM:-0500
TZOFFSETTO:-0400
RDATE:20210314T020000
RDATE:20220313T020000
END:DAYLIGHT
END:VTIMEZONE
BEGIN:VEVENT
UID:0ac8d6ad-0182-49bc-bc31-01d0c3d94c00
DTSTAMP:20260426T030703Z
DESCRIPTION:
DTSTART;TZID=America/New_York:20210224T101500
DTEND;TZID=America/New_York:20210224T104500
LOCATION:
SUMMARY:“Cool Collections” memorabilia roup – Alex’s Movie Collection!
END:VEVENT
END:VCALENDAR
