BEGIN:VCALENDAR
VERSION:2.0
PRODID:-//www.thearcofsomerset.org//NONSGML kigkonsult.se iCalcreator 2.30.
 10//
CALSCALE:GREGORIAN
METHOD:PUBLISH
UID:2b62a92d-dd8d-444b-b459-7b046d081f1e
X-WR-CALDESC:
X-WR-RELCALID:d4834c3c3d6482308d87b1053c701090
X-WR-TIMEZONE:America/New_York
BEGIN:VTIMEZONE
TZID:America/New_York
BEGIN:STANDARD
TZNAME:EST
DTSTART:20201101T020000
TZOFFSETFROM:-0400
TZOFFSETTO:-0500
RDATE:20211107T020000
END:STANDARD
BEGIN:DAYLIGHT
TZNAME:EDT
DTSTART:20200308T020000
TZOFFSETFROM:-0500
TZOFFSETTO:-0400
RDATE:20210314T020000
RDATE:20220313T020000
END:DAYLIGHT
END:VTIMEZONE
BEGIN:VEVENT
UID:41d12615-18e0-438c-b998-ce80a72bc1fa
DTSTAMP:20260426T030310Z
DESCRIPTION:
DTSTART;TZID=America/New_York:20210224T130000
DTEND;TZID=America/New_York:20210224T133000
LOCATION:
SUMMARY:30 Minute Mystery
END:VEVENT
END:VCALENDAR
