BEGIN:VCALENDAR
VERSION:2.0
PRODID:-//www.thearcofsomerset.org//NONSGML kigkonsult.se iCalcreator 2.30.
 10//
CALSCALE:GREGORIAN
METHOD:PUBLISH
UID:a2761240-d1e0-4616-a65d-7a5c3ef0b5e4
X-WR-CALDESC:
X-WR-RELCALID:b3cc19fd94b08433ec76c115845211f1
X-WR-TIMEZONE:America/New_York
BEGIN:VTIMEZONE
TZID:America/New_York
BEGIN:STANDARD
TZNAME:EST
DTSTART:20201101T020000
TZOFFSETFROM:-0400
TZOFFSETTO:-0500
RDATE:20211107T020000
END:STANDARD
BEGIN:DAYLIGHT
TZNAME:EDT
DTSTART:20200308T020000
TZOFFSETFROM:-0500
TZOFFSETTO:-0400
RDATE:20210314T020000
RDATE:20220313T020000
END:DAYLIGHT
END:VTIMEZONE
BEGIN:VEVENT
UID:0b476305-b156-4750-a4e3-808e2efb1168
DTSTAMP:20260426T030825Z
DESCRIPTION:
DTSTART;TZID=America/New_York:20210225T130000
DTEND;TZID=America/New_York:20210225T133000
LOCATION:
SUMMARY:“Music for Hope and Inspiration” – Jody on Disney vocals
END:VEVENT
END:VCALENDAR
