BEGIN:VCALENDAR
VERSION:2.0
PRODID:-//www.thearcofsomerset.org//NONSGML kigkonsult.se iCalcreator 2.30.
 10//
CALSCALE:GREGORIAN
METHOD:PUBLISH
UID:330e91e3-fb3a-4b84-a812-a664b5d234d5
X-WR-CALDESC:
X-WR-RELCALID:5ceec3bb19e4a32bb79e2d45f40b0f5b
X-WR-TIMEZONE:America/New_York
BEGIN:VTIMEZONE
TZID:America/New_York
BEGIN:STANDARD
TZNAME:EST
DTSTART:20201101T020000
TZOFFSETFROM:-0400
TZOFFSETTO:-0500
RDATE:20211107T020000
END:STANDARD
BEGIN:DAYLIGHT
TZNAME:EDT
DTSTART:20200308T020000
TZOFFSETFROM:-0500
TZOFFSETTO:-0400
RDATE:20210314T020000
RDATE:20220313T020000
END:DAYLIGHT
END:VTIMEZONE
BEGIN:VEVENT
UID:f7b6bae2-84a3-471f-a160-7df7a6e84798
DTSTAMP:20260426T030506Z
DESCRIPTION:
DTSTART;TZID=America/New_York:20210225T111500
DTEND;TZID=America/New_York:20210225T234500
LOCATION:
SUMMARY:Literacy class (Cambridge)- everyone welcome!
END:VEVENT
END:VCALENDAR
