BEGIN:VCALENDAR
VERSION:2.0
PRODID:-//www.thearcofsomerset.org//NONSGML kigkonsult.se iCalcreator 2.30.
 10//
CALSCALE:GREGORIAN
METHOD:PUBLISH
UID:a8a9ade5-c015-4335-bdc1-7bd8c0cd6135
X-WR-CALDESC:
X-WR-RELCALID:81b85ec59a015528c8e62c5b56859372
X-WR-TIMEZONE:America/New_York
BEGIN:VTIMEZONE
TZID:America/New_York
BEGIN:STANDARD
TZNAME:EST
DTSTART:20201101T020000
TZOFFSETFROM:-0400
TZOFFSETTO:-0500
RDATE:20211107T020000
END:STANDARD
BEGIN:DAYLIGHT
TZNAME:EDT
DTSTART:20200308T020000
TZOFFSETFROM:-0500
TZOFFSETTO:-0400
RDATE:20210314T020000
RDATE:20220313T020000
END:DAYLIGHT
END:VTIMEZONE
BEGIN:VEVENT
UID:aa950d8a-01a2-4259-9b7e-1f55973a778e
DTSTAMP:20260426T030309Z
DESCRIPTION:
DTSTART;TZID=America/New_York:20210226T100000
DTEND;TZID=America/New_York:20210226T103000
LOCATION:
SUMMARY:Bingo with Mary
END:VEVENT
END:VCALENDAR
